BEGIN:VCALENDAR
VERSION:2.0
PRODID:-//Council of the District of Columbia - ECPv6.10.2//NONSGML v1.0//EN
CALSCALE:GREGORIAN
METHOD:PUBLISH
X-WR-CALNAME:Council of the District of Columbia
X-ORIGINAL-URL:https://dccouncil.gov
X-WR-CALDESC:Events for Council of the District of Columbia
REFRESH-INTERVAL;VALUE=DURATION:PT1H
X-Robots-Tag:noindex
X-PUBLISHED-TTL:PT1H
BEGIN:VTIMEZONE
TZID:America/New_York
BEGIN:DAYLIGHT
TZOFFSETFROM:-0500
TZOFFSETTO:-0400
TZNAME:EDT
DTSTART:20170312T070000
END:DAYLIGHT
BEGIN:STANDARD
TZOFFSETFROM:-0400
TZOFFSETTO:-0500
TZNAME:EST
DTSTART:20171105T060000
END:STANDARD
END:VTIMEZONE
BEGIN:VEVENT
DTSTART;TZID=America/New_York:20170110T100000
DTEND;TZID=America/New_York:20170110T170000
DTSTAMP:20260424T135350
CREATED:20181025T220230Z
LAST-MODIFIED:20181025T225628Z
UID:21729-1484042400-1484067600@dccouncil.gov
SUMMARY:Legislative Meeting
DESCRIPTION:FIRST LEGISLATIVE MEETING
URL:https://dccouncil.gov/event/legislative-meeting-18/
LOCATION:Wilson Building Room 500\, 1350 Pennsylvania Avenue NW\, Washington\, DC\, 20004\, United States
GEO:38.8951311;-77.0313808
X-APPLE-STRUCTURED-LOCATION;VALUE=URI;X-ADDRESS=Wilson Building Room 500 1350 Pennsylvania Avenue NW Washington DC 20004 United States;X-APPLE-RADIUS=500;X-TITLE=1350 Pennsylvania Avenue NW:geo:-77.0313808,38.8951311
END:VEVENT
END:VCALENDAR